BEGIN:VCALENDAR
VERSION:2.0
PRODID:-//WISE - ECPv6.6.4.2//NONSGML v1.0//EN
CALSCALE:GREGORIAN
METHOD:PUBLISH
X-ORIGINAL-URL:https://www.wisecampaign.org.uk
X-WR-CALDESC:Events for WISE
REFRESH-INTERVAL;VALUE=DURATION:PT1H
X-Robots-Tag:noindex
X-PUBLISHED-TTL:PT1H
BEGIN:VTIMEZONE
TZID:UTC
BEGIN:STANDARD
TZOFFSETFROM:+0000
TZOFFSETTO:+0000
TZNAME:UTC
DTSTART:20260101T000000
END:STANDARD
END:VTIMEZONE
BEGIN:VEVENT
DTSTART;TZID=UTC:20260121T120000
DTEND;TZID=UTC:20260121T130000
DTSTAMP:20260421T134044
CREATED:20251205T101836Z
LAST-MODIFIED:20251217T114137Z
UID:10000084-1768996800-1769000400@www.wisecampaign.org.uk
SUMMARY:Inclusive leadership: why it’s your competitive advantage
DESCRIPTION:Discover why inclusive leadership is the key driving force behind innovation in STEM. Join WISE for a 60-minute interactive session packed with insights\, practical tips\, and strategies to help current and aspiring leaders push team performance and cultural change. \n\n\n\nLeaders play a pivotal role in creating environments where everyone feels valued\, respected\, and empowered to contribute. Inclusive leadership goes beyond policies – it’s about daily actions\, behaviours\, and the decisions that drive team performance and innovation. \n\n\n\nDrawing from our new full-day training\, this session explores how inclusive leadership directly impacts STEM environments. During this event we’ll show you how to become a strategic lever for cultural transformation\, by introducing you to key concepts that will help you: \n\n\n\n• Build trust and engagement across diverse teams \n\n\n\n• Drive innovation through psychological safety and open communication \n\n\n\n• Reduce attrition by creating environments where everyone feels valued \n\n\n\nRegister below to reserve your spot today to take your first step toward building a STEM culture where everyone can thrive. \n\n\n\nRegister to attend >
URL:https://www.wisecampaign.org.uk/event/inclusive-leadership-why-its-your-competitive-advantage/
CATEGORIES:Member Event
ATTACH;FMTTYPE=image/jpeg:https://www.wisecampaign.org.uk/wp-content/uploads/2025/12/inclusive-leadership.jpg
END:VEVENT
END:VCALENDAR