BEGIN:VCALENDAR
VERSION:2.0
PRODID:-//WISE - ECPv6.6.4.2//NONSGML v1.0//EN
CALSCALE:GREGORIAN
METHOD:PUBLISH
X-WR-CALNAME:WISE
X-ORIGINAL-URL:https://www.wisecampaign.org.uk
X-WR-CALDESC:Events for WISE
REFRESH-INTERVAL;VALUE=DURATION:PT1H
X-Robots-Tag:noindex
X-PUBLISHED-TTL:PT1H
BEGIN:VTIMEZONE
TZID:UTC
BEGIN:STANDARD
TZOFFSETFROM:+0000
TZOFFSETTO:+0000
TZNAME:UTC
DTSTART:20250101T000000
END:STANDARD
END:VTIMEZONE
BEGIN:VEVENT
DTSTART;TZID=UTC:20250604T103000
DTEND;TZID=UTC:20250604T120000
DTSTAMP:20260420T083742
CREATED:20250108T131826Z
LAST-MODIFIED:20250508T160723Z
UID:10000064-1749033000-1749038400@www.wisecampaign.org.uk
SUMMARY:Building a diverse workforce: the power of STEM outreach
DESCRIPTION:Effective STEM outreach programmes at all school stages play a crucial role in shaping the future of the workforce by inspiring\, educating and empowering young women to pursue careers in science\, technology\, engineering\, and mathematics. \n“Building tomorrow’s workforce: the power of STEM outreach” will explore how outreach efforts can bridge the talent gap\, foster diversity\, and build a strong foundation for the workforce of tomorrow. \nLearn from our expert speakers about how to overcome barriers of self-doubt\, the impact of role models and inspiring girls through effective outreach initiatives. \nRegister now
URL:https://www.wisecampaign.org.uk/event/building-tomorrows-workforce-the-power-of-stem-outreach/
CATEGORIES:Member Event,Webinar
ATTACH;FMTTYPE=image/png:https://www.wisecampaign.org.uk/wp-content/uploads/2025/01/2560-x-1280-Building-tomorrows-workforce.png
ORGANIZER;CN="WISE":MAILTO:info@wisecampaign.org.uk
END:VEVENT
END:VCALENDAR